BEGIN:VCALENDAR
VERSION:2.0
PRODID:-//Winter Ales Festival - ECPv4.9.4//NONSGML v1.0//EN
CALSCALE:GREGORIAN
METHOD:PUBLISH
X-WR-CALNAME:Winter Ales Festival
X-ORIGINAL-URL:https://winterales.co.nz
X-WR-CALDESC:Events for Winter Ales Festival
BEGIN:VTIMEZONE
TZID:"UTC"
BEGIN:STANDARD
TZOFFSETFROM:+0000
TZOFFSETTO:+0000
TZNAME:UTC
DTSTART:20190101T000000
END:STANDARD
END:VTIMEZONE
BEGIN:VEVENT
DTSTART;TZID="UTC":20190706T140000
DTEND;TZID="UTC":20190706T190000
DTSTAMP:20191222T213820
CREATED:20190414T103705Z
LAST-MODIFIED:20190704T050651Z
UID:2268-1562421600-1562439600@winterales.co.nz
SUMMARY:Winter Ales Festival 2019
DESCRIPTION:Join us for the 10th Annual SOBA Winter Ales Festival\, taking place again this year at The Hunter Lounge in Wellington! \nWe’re working directly with breweries to source some new\, limited and/or one-off releases to provide a mix of unique and interesting beers from around New Zealand for you to enjoy. Our goal is to create an event full of good beer\, good food\, and good company\, and we hope that you can join us and take part in it. \n
URL:https://winterales.co.nz/event/winter-ales-festival-2019/
LOCATION:The Hunter Lounge\, 1 Kelburn Parade\, Kelburn\, Wellington\, 6012\, New Zealand
ORGANIZER;CN="SOBA":MAILTO:info@winterales.co.nz
END:VEVENT
END:VCALENDAR